BEGIN:VCALENDAR
VERSION:2.0
PRODID:-//Finanzradar.de - ECPv6.15.17.1//NONSGML v1.0//EN
CALSCALE:GREGORIAN
METHOD:PUBLISH
X-ORIGINAL-URL:https://finanzradar.de
X-WR-CALDESC:Veranstaltungen für Finanzradar.de
REFRESH-INTERVAL;VALUE=DURATION:PT1H
X-Robots-Tag:noindex
X-PUBLISHED-TTL:PT1H
BEGIN:VTIMEZONE
TZID:Europe/Berlin
BEGIN:DAYLIGHT
TZOFFSETFROM:+0100
TZOFFSETTO:+0200
TZNAME:CEST
DTSTART:20250330T010000
END:DAYLIGHT
BEGIN:STANDARD
TZOFFSETFROM:+0200
TZOFFSETTO:+0100
TZNAME:CET
DTSTART:20251026T010000
END:STANDARD
BEGIN:DAYLIGHT
TZOFFSETFROM:+0100
TZOFFSETTO:+0200
TZNAME:CEST
DTSTART:20260329T010000
END:DAYLIGHT
BEGIN:STANDARD
TZOFFSETFROM:+0200
TZOFFSETTO:+0100
TZNAME:CET
DTSTART:20261025T010000
END:STANDARD
BEGIN:DAYLIGHT
TZOFFSETFROM:+0100
TZOFFSETTO:+0200
TZNAME:CEST
DTSTART:20270328T010000
END:DAYLIGHT
BEGIN:STANDARD
TZOFFSETFROM:+0200
TZOFFSETTO:+0100
TZNAME:CET
DTSTART:20271031T010000
END:STANDARD
END:VTIMEZONE
BEGIN:VEVENT
DTSTART;TZID=Europe/Berlin:20260408T085000
DTEND;TZID=Europe/Berlin:20260408T103000
DTSTAMP:20260419T160332
CREATED:20260227T104552Z
LAST-MODIFIED:20260227T104552Z
UID:135039-1775638200-1775644200@finanzradar.de
SUMMARY:Live-Trading DAX Opening
DESCRIPTION:
URL:https://finanzradar.de/event/live-trading-dax-opening-50/
LOCATION:Finanzradar Website
END:VEVENT
BEGIN:VEVENT
DTSTART;TZID=Europe/Berlin:20260408T180000
DTEND;TZID=Europe/Berlin:20260408T190000
DTSTAMP:20260419T160332
CREATED:20260309T152654Z
LAST-MODIFIED:20260309T152654Z
UID:136365-1775671200-1775674800@finanzradar.de
SUMMARY:Eine programmierte Trading-Strategie im statistischen Langzeittest - Suricate Trading
DESCRIPTION:In diesem Vortrag zeigt Robin Kömel die Entwicklung einer vollständig regelbasierten Trading-Strategie. Von der Idee über die Programmierung bis hin zur umfassenden statistischen Langzeitauswertung.\n\nIm Mittelpunkt steht ein systematisches Regelwerk\, das nicht auf Bauchgefühl\, sondern auf klar definierten Marktfaktoren und objektiven Kriterien basiert. Die Strategie wurde in einem eigens entwickelten Analysesystem programmiert\, getestet und über einen langen historischen Zeitraum detailliert ausgewertet. \n\nRobin Kömel erläutert\, wie aus einer fundierten Marktlogik ein überprüfbares und reproduzierbares Trading-System entsteht und worauf es bei der Validierung und realistischen Bewertung tatsächlich ankommt.\n\nMit diesem regelbasierten Ansatz gewann er die Trading-Weltmeisterschaft 2025 und erzielte dabei eine Jahresrendite von 183 % unter realen Wettbewerbsbedingungen im Echtgeldkonto.\n\nDer Vortrag richtet sich an Trader und Investoren\, die verstehen möchten\, wie systematische Strategien entwickelt\, getestet und objektiv beurteilt werden\, jenseits von Marketingversprechen und diskretionären Einzelentscheidungen.\n\nhttps://web.bigmarker.com/finanzradar/eine-programmierte-trading-strategie-im-statistischen-langzeittest
URL:https://finanzradar.de/event/eine-programmierte-trading-strategie-im-statistischen-langzeittest-suricate-trading/
END:VEVENT
END:VCALENDAR