BEGIN:VCALENDAR
VERSION:2.0
PRODID:-//Finanzradar.de - ECPv6.15.17.1//NONSGML v1.0//EN
CALSCALE:GREGORIAN
METHOD:PUBLISH
X-WR-CALNAME:Finanzradar.de
X-ORIGINAL-URL:https://finanzradar.de
X-WR-CALDESC:Veranstaltungen für Finanzradar.de
REFRESH-INTERVAL;VALUE=DURATION:PT1H
X-Robots-Tag:noindex
X-PUBLISHED-TTL:PT1H
BEGIN:VTIMEZONE
TZID:Europe/Berlin
BEGIN:DAYLIGHT
TZOFFSETFROM:+0100
TZOFFSETTO:+0200
TZNAME:CEST
DTSTART:20250330T010000
END:DAYLIGHT
BEGIN:STANDARD
TZOFFSETFROM:+0200
TZOFFSETTO:+0100
TZNAME:CET
DTSTART:20251026T010000
END:STANDARD
BEGIN:DAYLIGHT
TZOFFSETFROM:+0100
TZOFFSETTO:+0200
TZNAME:CEST
DTSTART:20260329T010000
END:DAYLIGHT
BEGIN:STANDARD
TZOFFSETFROM:+0200
TZOFFSETTO:+0100
TZNAME:CET
DTSTART:20261025T010000
END:STANDARD
BEGIN:DAYLIGHT
TZOFFSETFROM:+0100
TZOFFSETTO:+0200
TZNAME:CEST
DTSTART:20270328T010000
END:DAYLIGHT
BEGIN:STANDARD
TZOFFSETFROM:+0200
TZOFFSETTO:+0100
TZNAME:CET
DTSTART:20271031T010000
END:STANDARD
END:VTIMEZONE
BEGIN:VEVENT
DTSTART;TZID=Europe/Berlin:20260413T085000
DTEND;TZID=Europe/Berlin:20260413T103000
DTSTAMP:20260421T194038
CREATED:20260227T104607Z
LAST-MODIFIED:20260227T104607Z
UID:135042-1776070200-1776076200@finanzradar.de
SUMMARY:Live-Trading DAX Opening
DESCRIPTION:
URL:https://finanzradar.de/event/live-trading-dax-opening-53/
LOCATION:Finanzradar Website
END:VEVENT
BEGIN:VEVENT
DTSTART;TZID=Europe/Berlin:20260413T180000
DTEND;TZID=Europe/Berlin:20260413T190000
DTSTAMP:20260421T194038
CREATED:20260408T104113Z
LAST-MODIFIED:20260408T104113Z
UID:137070-1776103200-1776106800@finanzradar.de
SUMMARY:Webinar: 2 profitable Strategien für Berufstätige
DESCRIPTION:Christian Böttger stellt 2 Trading-Strategien vor\, welche sich mit wenigen Minuten am Tag umsetzen lassen – perfekt fürt nebenberufliche Trader geeignet! \nZum einen präsentiert er eine verbesserte „Übernacht Halte-Strategie“\, welche täglich exakt einen Trade liefert. Zum anderen wird eine Strategie gezeigt\, welche von Effekten vor dem US Zinsentscheid Event profitiert. Beide Strategien sind für DAX\, Nasdaq\, S&P500 etc. geeignet. \nZum Webinar
URL:https://finanzradar.de/event/webinar-2-profitable-strategien-fuer-berufstaetige/
END:VEVENT
BEGIN:VEVENT
DTSTART;TZID=Europe/Berlin:20260413T203000
DTEND;TZID=Europe/Berlin:20260413T213000
DTSTAMP:20260421T194038
CREATED:20260227T105354Z
LAST-MODIFIED:20260227T105354Z
UID:135086-1776112200-1776115800@finanzradar.de
SUMMARY:Live-Trading SMC
DESCRIPTION:
URL:https://finanzradar.de/event/live-trading-smc-42/
LOCATION:Finanzradar Website
END:VEVENT
END:VCALENDAR