BEGIN:VCALENDAR
VERSION:2.0
PRODID:-//Finanzradar.de - ECPv6.15.17.1//NONSGML v1.0//EN
CALSCALE:GREGORIAN
METHOD:PUBLISH
X-ORIGINAL-URL:https://finanzradar.de
X-WR-CALDESC:Veranstaltungen für Finanzradar.de
REFRESH-INTERVAL;VALUE=DURATION:PT1H
X-Robots-Tag:noindex
X-PUBLISHED-TTL:PT1H
BEGIN:VTIMEZONE
TZID:Europe/Berlin
BEGIN:DAYLIGHT
TZOFFSETFROM:+0100
TZOFFSETTO:+0200
TZNAME:CEST
DTSTART:20250330T010000
END:DAYLIGHT
BEGIN:STANDARD
TZOFFSETFROM:+0200
TZOFFSETTO:+0100
TZNAME:CET
DTSTART:20251026T010000
END:STANDARD
BEGIN:DAYLIGHT
TZOFFSETFROM:+0100
TZOFFSETTO:+0200
TZNAME:CEST
DTSTART:20260329T010000
END:DAYLIGHT
BEGIN:STANDARD
TZOFFSETFROM:+0200
TZOFFSETTO:+0100
TZNAME:CET
DTSTART:20261025T010000
END:STANDARD
BEGIN:DAYLIGHT
TZOFFSETFROM:+0100
TZOFFSETTO:+0200
TZNAME:CEST
DTSTART:20270328T010000
END:DAYLIGHT
BEGIN:STANDARD
TZOFFSETFROM:+0200
TZOFFSETTO:+0100
TZNAME:CET
DTSTART:20271031T010000
END:STANDARD
END:VTIMEZONE
BEGIN:VEVENT
DTSTART;TZID=Europe/Berlin:20260427T085000
DTEND;TZID=Europe/Berlin:20260427T103000
DTSTAMP:20260419T160444
CREATED:20260227T104659Z
LAST-MODIFIED:20260227T104659Z
UID:135052-1777279800-1777285800@finanzradar.de
SUMMARY:Live-Trading DAX Opening
DESCRIPTION:
URL:https://finanzradar.de/event/live-trading-dax-opening-63/
LOCATION:Finanzradar Website
END:VEVENT
BEGIN:VEVENT
DTSTART;TZID=Europe/Berlin:20260427T110000
DTEND;TZID=Europe/Berlin:20260427T113000
DTSTAMP:20260419T160444
CREATED:20260227T124557Z
LAST-MODIFIED:20260227T124557Z
UID:135137-1777287600-1777289400@finanzradar.de
SUMMARY:Live-Coaching: Von 0 auf Trader mit Patrick Obacher
DESCRIPTION:Patrick Obacher aka „Der Börsenschreiber“ (YouTube) wird Live von Christian gecoached
URL:https://finanzradar.de/event/live-coaching-von-0-auf-trader-mit-patrick-obacher-8/
LOCATION:Finanzradar Website
END:VEVENT
BEGIN:VEVENT
DTSTART;TZID=Europe/Berlin:20260427T203000
DTEND;TZID=Europe/Berlin:20260427T213000
DTSTAMP:20260419T160444
CREATED:20260227T105433Z
LAST-MODIFIED:20260227T105433Z
UID:135094-1777321800-1777325400@finanzradar.de
SUMMARY:Live-Trading SMC
DESCRIPTION:
URL:https://finanzradar.de/event/live-trading-smc-50/
LOCATION:Finanzradar Website
END:VEVENT
END:VCALENDAR